BEGIN:VCALENDAR
VERSION:2.0
PRODID:-//203.170.87.193//NONSGML kigkonsult.se iCalcreator 2.20//
CALSCALE:GREGORIAN
METHOD:PUBLISH
X-FROM-URL:http://canadianbayclub.com.au
X-WR-TIMEZONE:Australia/Melbourne
BEGIN:VTIMEZONE
TZID:Australia/Melbourne
X-LIC-LOCATION:Australia/Melbourne
BEGIN:STANDARD
DTSTART:20180401T030000
TZOFFSETFROM:+1100
TZOFFSETTO:+1000
TZNAME:AEST
END:STANDARD
BEGIN:DAYLIGHT
DTSTART:20171001T020000
TZOFFSETFROM:+1000
TZOFFSETTO:+1100
TZNAME:AEDT
END:DAYLIGHT
END:VTIMEZONE
BEGIN:VEVENT
UID:ai1ec-548@canadianbayclub.com.au
DTSTAMP:20180224T063303Z
CATEGORIES:
CONTACT:
DESCRIPTION:<p>Private wedding. Club house closed all day. Lower deck avail
 able.</p>
DTSTART;VALUE=DATE:20180217
DTEND;VALUE=DATE:20180218
SEQUENCE:0
SUMMARY:Private Wedding Saturday 17 February 2018
URL:http://canadianbayclub.com.au/event/private-wedding-saturday-17-februar
 y-2018/
X-COST-TYPE:free
END:VEVENT
BEGIN:VEVENT
UID:ai1ec-533@canadianbayclub.com.au
DTSTAMP:20180224T063303Z
CATEGORIES:
CONTACT:Functions Committee\; functions@canadianbayclub.com.au
DESCRIPTION:<p>Due to a private function. The clubhouse will be closed.</p>
 \n<p>Apologies for any inconvenience.</p>\n<p>Committee</p>
DTSTART;TZID=Australia/Melbourne:20170902T090000
DTEND;TZID=Australia/Melbourne:20170903T000000
LOCATION:Canadian Bay Club
SEQUENCE:0
SUMMARY:Clubhouse Closed – Private Function
URL:http://canadianbayclub.com.au/event/clubhouse-closed-private-function/
X-COST-TYPE:free
END:VEVENT
BEGIN:VEVENT
UID:ai1ec-534@canadianbayclub.com.au
DTSTAMP:20180224T063303Z
CATEGORIES:
CONTACT:Committee\; contact@canadianbayclub.com.au
DESCRIPTION:<p>To all members\,</p>\n<p>We have set a date for a working be
 e to prepare the club for Summer.</p>\n<p>We will need:<br />\nPainters: B
 rushes & Rollers – please BYO if you have any<br />\nPressure Washers to b
 last the ramp and jetty – please BYO if you have one<br />\nGardeners to t
 rim back the greenery around the club – please bring a trailer to do Tip r
 uns\; vouchers to be provided<br />\nHandymen to patch leaks and repair ro
 ofs – please bring tools</p>\n<p>The committee will hold a BBQ with refres
 hments after.</p>
DTSTART;TZID=Australia/Melbourne:20170909T090000
DTEND;TZID=Australia/Melbourne:20170909T170000
LOCATION:Canadian Bay Club
SEQUENCE:0
SUMMARY:Working Bee
URL:http://canadianbayclub.com.au/event/working-bee/
X-COST-TYPE:free
END:VEVENT
BEGIN:VEVENT
UID:ai1ec-489@canadianbayclub.com.au
DTSTAMP:20180224T063303Z
CATEGORIES:
CONTACT:Josh Alkemade\; functions@canadianbayclub.com.au\; www.canadianbayc
 lub.com.au
DESCRIPTION:<p>Dear members\,</p>\n<p>We are holding a Bunnings BBQ to rais
 e funds for the Club.</p>\n<p>If you are able to lend a hand and help out\
 , it would be most appreciated.</p>\n<p>Please email Josh – <a href='mailt
 o:functions@canadianbayclub.com.au'>functions@canadianbayclub.com.au</a> w
 ith availability and contact information.</p>\n<p>Rostered times are: 9am 
 – 11am\, 11am – 1pm\, 1pm – 3pm & 3pm – 5pm</p>
DTSTART;TZID=Australia/Melbourne:20170915T090000
DTEND;TZID=Australia/Melbourne:20170915T170000
GEO:-38.219718;+145.059445
LOCATION:Bunnings Mornington @ 1100 Nepean Highway Mornington VIC 3931
SEQUENCE:0
SUMMARY:Bunnings BBQ
URL:http://canadianbayclub.com.au/event/bunnings-bbq/
X-COST-TYPE:free
END:VEVENT
BEGIN:VEVENT
UID:ai1ec-491@canadianbayclub.com.au
DTSTAMP:20180224T063303Z
CATEGORIES:
CONTACT:Functions Committee\; functions@canadianbayclub.com.au\; www.canadi
 anbayclub.com.au
DESCRIPTION:<p>Dear members\,</p>\n<p>Due to a private function the Clubhou
 se will be closed from 12 midday on Saturday 16th September.</p>\n<p>In th
 e meantime the lower deck is open for use</p>
DTSTART;TZID=Australia/Melbourne:20170916T120000
DTEND;TZID=Australia/Melbourne:20170916T235900
LOCATION:Canadian Bay Club @ Foreshore\, Canadian Bay Road\, Mount Eliza VI
 C 3930
SEQUENCE:0
SUMMARY:Clubhouse Closed
URL:http://canadianbayclub.com.au/event/clubhouse-closed-2/
X-COST-TYPE:free
END:VEVENT
BEGIN:VEVENT
UID:ai1ec-535@canadianbayclub.com.au
DTSTAMP:20180224T063303Z
CATEGORIES:
CONTACT:Committee\; contact@canadianbayclub.com.au
DESCRIPTION:<p>Dear Members\,</p>\n<p>We would like to invite you to a cham
 pagne breakfast.</p>\n<p>For $10 pp paid by cash on the day breakfast will
  include:<br />\nEgg & Bacon Rolls<br />\nChampagne<br />\nOrange Juice<br
  />\nTea & Coffee</p>
DTSTART;TZID=Australia/Melbourne:20170924T090000
DTEND;TZID=Australia/Melbourne:20170924T120000
LOCATION:Canadian Bay Club
SEQUENCE:0
SUMMARY:Champagne Breakfast
URL:http://canadianbayclub.com.au/event/champagne-breakfast/
X-COST-TYPE:free
END:VEVENT
BEGIN:VEVENT
UID:ai1ec-536@canadianbayclub.com.au
DTSTAMP:20180224T063303Z
CATEGORIES:
CONTACT:Committee\; contact@canadianbayclub.com.au
DESCRIPTION:<p>Come down to the club and enjoy the game on the big screen.<
 br />\nMore details to come</p>
DTSTART;TZID=Australia/Melbourne:20170930T110000
DTEND;TZID=Australia/Melbourne:20170930T220000
LOCATION:Canadian Bay Club
SEQUENCE:0
SUMMARY:AFL Grand Final
URL:http://canadianbayclub.com.au/event/afl-grand-final/
X-COST-TYPE:free
END:VEVENT
BEGIN:VEVENT
UID:ai1ec-490@canadianbayclub.com.au
DTSTAMP:20180224T063303Z
CATEGORIES:
CONTACT:Functions Committee\; functions@canadianbayclub.com.au\; www.canadi
 anbayclub.com.au
DESCRIPTION:<p>Dear members\,</p>\n<p>The Clubhouse will be closed from 3pm
  6th October until Sunday 8th October for a private function. You are stil
 l welcome to use the lower deck.</p>
DTSTART;TZID=Australia/Melbourne:20171006T150000
DTEND;TZID=Australia/Melbourne:20171007T235900
LOCATION:Canadian Bay Club @ Foreshore\, Canadian Bay Road\, Mount Eliza VI
 C 3930
SEQUENCE:0
SUMMARY:Clubhouse Closed
URL:http://canadianbayclub.com.au/event/clubhouse-closed/
X-COST-TYPE:free
END:VEVENT
BEGIN:VEVENT
UID:ai1ec-537@canadianbayclub.com.au
DTSTAMP:20180224T063303Z
CATEGORIES:
CONTACT:Functions Committee\; functions@canadianbayclub.com.au
DESCRIPTION:<p>Due to a private function the Club house will be closed.</p>
 \n<p>Apologies for any inconvenience</p>
DTSTART;TZID=Australia/Melbourne:20171022T100000
DTEND;TZID=Australia/Melbourne:20171022T180000
LOCATION:Canadian Bay Club
SEQUENCE:0
SUMMARY:Clubhouse Closed
URL:http://canadianbayclub.com.au/event/clubhouse-closed-private-function-2
 /
X-COST-TYPE:free
END:VEVENT
BEGIN:VEVENT
UID:ai1ec-541@canadianbayclub.com.au
DTSTAMP:20180224T063303Z
CATEGORIES:
CONTACT:contact@canadianbayclub.com.au
DESCRIPTION:<p>Commodore’s Cocktail Party. Semi Formal dress code. $40 per 
 head includes champagne\, beer\, wine\, soft drink and canapes.</p>
DTSTART;TZID=Australia/Melbourne:20171118T180000
DTEND;TZID=Australia/Melbourne:20171118T203000
SEQUENCE:0
SUMMARY:Commodore’s Cocktail Party
URL:http://canadianbayclub.com.au/event/commodores-cocktail-party/
X-COST-TYPE:free
END:VEVENT
BEGIN:VEVENT
UID:ai1ec-547@canadianbayclub.com.au
DTSTAMP:20180224T063303Z
CATEGORIES:
CONTACT:
DESCRIPTION:
DTSTART;TZID=Australia/Melbourne:20171209T160000
DTEND;TZID=Australia/Melbourne:20171210T060000
SEQUENCE:0
SUMMARY:Private Function. December 9. Club closed from 4 pm. Lower deck ava
 ilable.
URL:http://canadianbayclub.com.au/event/private-function-december-9-club-cl
 osed-from-4-pm-lower-deck-available/
X-COST-TYPE:free
END:VEVENT
BEGIN:VEVENT
UID:ai1ec-583@canadianbayclub.com.au
DTSTAMP:20180224T063303Z
CATEGORIES:
CONTACT:
DESCRIPTION:
DTSTART;TZID=Australia/Melbourne:20180218T153000
DTEND;TZID=Australia/Melbourne:20180218T183000
SEQUENCE:0
SUMMARY:Captain Spalding Live
URL:http://canadianbayclub.com.au/event/captain-spalding-live/
X-COST-TYPE:free
END:VEVENT
END:VCALENDAR
